BEGIN:VCALENDAR
VERSION:2.0
PRODID:-//erexegypt - ECPv5.14.1//NONSGML v1.0//EN
CALSCALE:GREGORIAN
METHOD:PUBLISH
X-WR-CALNAME:erexegypt
X-ORIGINAL-URL:https://www.erexegypt.com/wp
X-WR-CALDESC:Events for erexegypt
REFRESH-INTERVAL;VALUE=DURATION:PT1H
X-Robots-Tag:noindex
X-PUBLISHED-TTL:PT1H
BEGIN:VTIMEZONE
TZID:UTC
BEGIN:STANDARD
TZOFFSETFROM:+0000
TZOFFSETTO:+0000
TZNAME:UTC
DTSTART:20260101T000000
END:STANDARD
END:VTIMEZONE
BEGIN:VEVENT
DTSTART;VALUE=DATE:20260607
DTEND;VALUE=DATE:20260612
DTSTAMP:20260423T191400
CREATED:20250930T095714Z
LAST-MODIFIED:20251005T082232Z
UID:2703-1780790400-1781222399@www.erexegypt.com
SUMMARY:Petroleum Geochemistry in Conventional and Unconventional Systems
DESCRIPTION:Course & Workshop\nJune 7-11\, 2026 \nInstructor: Dr. Moataz El Shafeiy\n  \nWho Should Attend\nGeologists\, exploration geologists\, organic geochemists\, and development geologists\, reservoir engineers. \nCourse Description:\nOrganic/Petroleum Geochemistry is an in-depth exploration of the fundamental principles and practical applications of geochemistry in the context of petroleum exploration. Indeed\, geochemistry has long been considered as a major contributor to oil and gas exploration and deserves to be admitted as the third “G” along with geology and geophysics (G & G). This course provides attendees with a comprehensive understanding of the chemical and geological processes involved in the formation\, migration\, and alteration of petroleum hydrocarbons. Throughout the course\, attendees will explore topics such as organic matter preservation\, source rock evaluation\, thermal maturation\, petroleum generation and migration\, and hydrocarbons alteration processes. By studying various geochemical parameters and analytical techniques\, attendees will develop their skills necessary to assess hydrocarbon potential\, evaluate source rock (quantity\, quality\, and thermal maturity)\, know the basic assessment of unconventional shale reservoirs\, and make informed decisions in the exploration of oil and gas resources. Moreover\, the course provides basic information about the application of lipid biomarkers (geochemical fossils) as source-related and maturity-related proxies. These organic compounds are valuable proxies in oil-oil and oil-source rock correlations. The course combines theoretical knowledge with practical applications and data interpretation training. At the end of this course\, attendees will be able to interpret geochemical data sets to unravel the geological history of a petroleum system and understand the relationship between geochemistry and other disciplines such as basin modeling analysis. \n \nCourse Objectives\n To gain  knowledge and  better  understanding  in  the following  areas:  \n\nFundamentals of organic geochemistry.\nFavorable conditions for organic matter productivity\, preservation\, and accumulation.\nFactors controlling organic richness of a source rock.\nSource rock evaluation (quantity\, quality\, and thermal maturity)\, employing techniques such as LECO TOC\, Rock-Eval pyrolysis\, and Py-GC\, and their interpretation.\nAdvanced geochemical analyses (GC and GC-MS) to investigate lipid biomarkers and their significance.\nOil-Source rock and Oil-Oil correlations.\nOrganic petrographic tools (e.g.\, Vitrinite Reflectance Ro% and visual kerogen analysis)\, and their applications in assessing thermal maturity and kerogen characteristics\, respectively.\nOriginal organic carbon (TOCo) and original kerogen typing (HIo) back-calculations and their importance in assessing the remaining source potential.\n\n \nCourse Content\nPart One: \n\nIntroduction to source rock formation\, organic matter preservation\, accumulation\, depositional control\, and factors controlling organic richness.\nKerogen formation\, source rock evolution\, and petroleum generation.\n\nPart Two: \n\nAssessing organic matter quantity\, quality\, thermal maturity\, and petroleum-generating potential. Geochemical tools such as Total Organic Carbon (LECO TOC%)\, Rock-Eval pyrolysis\, and\ngeochemical logs will be introduced.\nInterpreting different source rock thermal maturity data including Rock-Eval pyrolysis and\nvitrinite reflectance (Ro%) and limitations. Visual (microscopic) kerogen typing and its implications (e.g.\, HIo calculation). Skills to distinguish between different types of source rocks\, their grades\, quality (oil- and/or gas-prone)\, and thermal maturity will be developed to the attendees by the end of this part.\n\nPart Three: \n\nThe concept of biological markers (biomarkers) inventories (n-alkanes\, isoprenoids “pr/ph”\,steranes\, and hopanes) using gas chromatography (GC-FID & GC-MS) techniques. Source-\, age-\, and maturity-related biomarkers tools and applications.\nOil-to-oil\, oil-to-source rock\, and gas-to-source rock correlations. Stable organic carbon isotope ratio and isotope ratio measurement for lipid biomarkers and gases using GC-irMS.\n\nPart Four: \n\nBasics of 1D burial\, thermal history\, and maturity modeling for systems with tectonic-induced unconformities and how to calibrate and validate these models.\nGroup Discussion and Activities\n\nPart Five: \n\nGeochemistry of  unconventional shale reservoirs.  Shale organic richness implication using wireline logs (Passey et al.\, 1990).\n\nReservoir geochemistry and applications of mud gas compositions. Bulk geochemical properties of crude oil and natural gas.\nGroup Discussion and Activities\n\nLocation\nFirst day will be held at the Holiday Inn Maadi Hotel\, in Cairo. The participants will fly the next day to Hurghada. The course will be continued in Hurghada. \n  \nCourse Fees\nInclusive of refreshment and lunch at the Holiday Inn Maadi Hotel. Air Ticket Cairo/Hurghada return and accommodation in Hurghada. \n  \nInstructor Profile\nExperience lies in the Sedimentary Geochemistry field\, analyzing paleo-environmental\, paleoclimatic\, and paleoceanographic proxies of organic-rich sedimentary rocks of different ages\, as well as conducting source rock evaluation and unconventional reservoirs studies. Skilled in interpreting geochemical data using a variety of techniques\, including LECO analyzer\, Rock-Eval pyrolysis\, ICP- MS/AES\, XRD\, GC-MS\, GC-irMS\, and PetroMod software. Through my work\, I can adeptly analyze data to develop depositional models in the light of climatic and/or sea-level changes. In addition to my technical skills\, Trace  elements  geochemistry\,  Paleo-redox  proxies\,  Paleo-depositional  environments\,  Lipid  Biomarker\, Petroleum Geochemistry\, Unconventional shale reservoirs\, Paleoceanography and Chemostratigraphy\, Diagenesis\, Stable isotope geochemistry\, Organic matter in Holocene sediments\, Sedimentary Geochemistry\, (Paleo)climatic changes\, and Environmental monitoring. \nAcademic awards and Fellowships \nMarch 2023-November 2023 \nHolder of the prestigious President International Fellowship Initiative (PIFI-CAS) for 9 months\, serving as a “Visiting Scientist” at the Institute of Geology and Geophysics Chinese Academy of Sciences (IGGCAS)\, Beijing. IGGCAS is regarded as one of the foremost geoscience institutions in the Chinese mainland\, and I was privileged to work alongside world-class experts in the field. Under the mentorship of the esteemed Prof. Dr. Daizhao Chen\, I am conducting research on 13C\, 26Mg\, and 199-202Hg isotope perturbation\, as well as redox-sensitive elements\,\nlong the K/Pg organic-rich sediments in southern Tethys. Part of this work is submitted to Earth and Planetary Science Letter. \nSeptember 2019-August 2021 \nHolder of the President International postdoctoral Fellowship Initiative (PIFI-CAS) for two years at the Institute of Geology and Geophysics Chinese Academy of Sciences (IGGCAS)\, Beijing. During my tenure\, I had the opportunity to work alongside esteemed scholars in the field of geosciences and was mentored by the distinguished Prof. Dr. Daizhao Chen. My research project was focused on utilizing cutting-edge isotope techniques\, specifically 13C\, 15N\,\n34S\, and 187-188Re-Os isotope perturbation along the Cretaceous-Paleogene black shales of Egypt. This work is accepted in Gondwana Research. \nJuly 2013-January 2014 \nHolder of the German-Egyptian Research Short-term Scholarship (GERSS) to conduct research in the Geobiology working group\, Georg-August University\, Göttingen\, Germany\, mentored by the esteemed Prof. Dr. Volker Thiel. The project concerned the Upper Cretaceous period in Egypt\, with a focus on investigating potential changes in CO2 concentration. We conducted compound-specific 13C measurements for lipid biomarkers. The work yielded promising results that are published in Egyptian Journal of Geology. \nJune 2009-October 2011 \nHolder of DAAD scholarship (sandwich program) that allowed me to pursue my PhD studies under the guidance of the world-renowned Prof. Dr. Jörn Peckmann at the Geobiology working group\, Centre of Marine and Environmental Sciences (MARUM)\, Bremen University\, Germany. My primary research in Germany was focusing on investigating the paleo-ecological conditions during Cretaceous-Paleocene black shales deposition\, and I utilized gas chromatography and gas chromatography isotope ratio mass spectrometry (GC-irMS) equipment for compound-specific 13C measurements to extract and identify biological markers (molecular fossils). These results were integrated with redox-sensitive elements (from a Dana Gas© project) and published in Q1 and Q2 journals. \n• Prof. M. El Ashry’s prize: awarded for the best MSc thesis (February 2008).\n• Prof. M. El Ashry’s prize: awarded for the pre-master’s degree (February 2003).\n• Prof. Abu Khadra’s prize: awarded for Sedimentary Petrology undergraduate course (February 2002).
URL:https://www.erexegypt.com/wp/short-course/petroleum-geochemistry-in-conventional-and-unconventional-systems/
END:VEVENT
END:VCALENDAR