BEGIN:VCALENDAR
VERSION:2.0
PRODID:-//erexegypt - ECPv5.14.1//NONSGML v1.0//EN
CALSCALE:GREGORIAN
METHOD:PUBLISH
X-WR-CALNAME:erexegypt
X-ORIGINAL-URL:https://www.erexegypt.com/wp
X-WR-CALDESC:Events for erexegypt
REFRESH-INTERVAL;VALUE=DURATION:PT1H
X-Robots-Tag:noindex
X-PUBLISHED-TTL:PT1H
BEGIN:VTIMEZONE
TZID:UTC
BEGIN:STANDARD
TZOFFSETFROM:+0000
TZOFFSETTO:+0000
TZNAME:UTC
DTSTART:20250101T000000
END:STANDARD
END:VTIMEZONE
BEGIN:VEVENT
DTSTART;VALUE=DATE:20250101
DTEND;VALUE=DATE:20250106
DTSTAMP:20260424T105319
CREATED:20220728T121444Z
LAST-MODIFIED:20250119T141316Z
UID:2321-1735689600-1736121599@www.erexegypt.com
SUMMARY:Advanced Structural Modeling\, Facies and Petrophysics
DESCRIPTION:Course & Workshop\nMay 4-8\, 2025 \nInstructor: Dr. Saleh Hammed \n  \nLOCATION\nFirst day will be held at the Holiday Inn Maadi Hotel\, in Cairo. The participants will fly the next day to Hurghada. The course will be continued in Hurghada. \nCOURSE FEES\nInclusive of refreshment and lunch at the Holiday Inn Maadi Hotel. Air Ticket Cairo/Hurghada return and accommodation in Hurghada. \n  \nINSTRUCTOR PROFILE\nEDUCATION \nBSc\, Geology\, First Class Honours\, Cairo University\, Giza\, 1990.  \nMSc in basement tectonics\, Cairo University\, 1995     \nPhD\, Structural Geology\, Geological institute (ETH)\, Zurich & Cairo University 2002    \nEMPLOYMENT  \n\nDemonstrator\, Cairo University\, Cairo\, 1990-1995\nAsst. Lecturer\, Cairo University\, Cairo\, 1996-2001.\nAsst. Lecturer\, American University in Cairo\, 1995-2000.\nAsst. lecturer\, ETH\, Zurich\, 1999-2002\nLecturer\, Cairo University\, Cairo\, since 2002\nResearch scientist\, and Field advisor\, ETH\, Zurich\, Switzerland since 2002.\nPrinciple consultant of AL Mashora Geologic consulting\, Cairo-Kuwait\, 1995-2005\nLecturer of petroleum geosciences program\, Cairo University 2008\nVisiting researcher at Geology Department\, Catania\, University\, Italy\, March 2008\nE-learning scientific advisor (GNS- Egypt)\, 2008-11.\nConsultant Integrated Geoconsultancy (IGC)\, Cairo-Kuwait\n\n   \nGeologic Software     \nGeoFrame – Petrel- 2D&3D Move\, Kingdom\, RockWorks Utilities \nImage analysis software ERDASS and ENVI GIS and Map-info \nPaleostress analysis (T-Tecto\, Sperna\, NDA\, SVB\, etc)  Stretch (modelling and basin analysis)  \nRESEARCH AND EXPERIENCE:  \n\nSubjects: tectonics\, structural geology\, basin dynamics\, petroleum exploration\, watershed analysis\, remote sensing image analysis.\nMethods: field studies (paleostress\, fracture analysis)\, GIS modules\, GPR\, subsurface data analysis (Geoframe\, Petrel\, Rockworks\, etc)\, numerical modelling\, Matlab programming\, Physical analogue modelling\, digital mapping and GPS SURVEY.\nWorking Field: Egypt\, Iraq\, Morocco\, Kuwait\, Jordan and Europe (Switzerland\, Norway\, Germany\, Italy\, Croatia\, France).\nField leader\, consultation and instructor for numerous oil companies and consulting companies including EREx\, Transglobe\, Dot Norke\, North Energy\, DNO\, PGNiG SA\, SUCO\, GPC\,GUPCO\, INA\, Petrogulf\, Dara\, Bapetco\, RWA\, OGS\, Petrobel\,  petrosalam\,  Gemsa.\, Amapetco \, and others\nInvolved with various geothermal energy projects in Switzerland 2002-2007.\nStructural Geology consultant for Hamash Misr for gold mines\nGroundwater   flow in Alpine fractured crystalline massifs and their relationship with underground works\, Civil Engineering Project at the Fédéral Technical School of Lausanne (Switzerland)\, Laboratory of Geology (GEOLEP)\nField  Leader for  West central Sinai Field  mapping courses for students of  ETH Zurich\, Switzerland\, Oslo University Norway\, Mainz University\, Germany and Catania University\, Italy.\nField advisor for the annual geologic Trips (Petroleum engineering\, American University).\nInvolved in Egyptian black shale evaluation project with (Petroleum engineering\, American University).\n Geologic consultant of GeoModelling Solutions GmbH\, Zurich\, Switzerland\, since1999\nWe (geomodelling   solution)   have   performed   case   studies   for   sedimentary   basins worldwide\, including the Gulf of Mexico\, Norway-Greenland\, the Barents Sea\, China\, Ghana\, and Australia. We usually work on client specific problems and do not directly market regional reports. However\, our work on the Barents\, East Greenland\, and V?ring basins is available through the geophysical atlases of TGS-VBPR.\n\n\nTRAINER AND INSTRUCTOR OF:      \n\nApplied Subsurface Geological Mapping\nSurface Geological Mapping\nField mapping and Regional Geology\nRemote sensing and geologic mapping\nFracture analysis and image log interpretation\nNaturally Fractured Reservoirs and their modelling\nStructural Geology in Hydrocarbon Exploration and exploitation\nSedimentary Basin Analysis And Hydrocarbon Potentiality\nGIS\nRock mechanics for PG\nGeostatistics\n\n\nRESEARCH GROUP (projects and MSc and PhD thesis)      \n\nIchnology and Palaenvironmental reconstruction of the Lower Cambrian rocks\, Um Bogma Area\, Sinai\, Egypt (2003)\nGeological studies on  carbonate rocks of Qattamyia district\, and their use in Egyptian cement industry (2005) National institute of building material research.\nStratigraphic\, sedimentologic and mineralogic studies on the Oligocene red beds and the associated volcanics of El Fayoum and Greater Cairo district\, Egypt (2007)\nNumerical Structural modeling of gravity induced folding: A case study from the Western margin of Gulf of Aqaba\, (2008)\nStructural and hydrocarbon habitats of Sidri-Firan Field\, Gulf of Suez Rift\, Egypt (2009)\, Petrobel Oil Company.\nStructural modelling and hydrocarbon potentiality of Wadi Ghoweiba rift segment\, the North-western sector of Gulf of Suez rift\, Egypt (2010)\nEngineering geology studies and mapping of expensive soil of Kom Oshim\, Fayoum Egypt (2010)\nDigital geologic mapping and genesis of Karst related features in some Egyptian territories (2012) Ministry of Environmental Affairs\nStructure  architecture  of  Bahariya  Oasis\,  Western  Desert\,  Egypt  (2008)  Ganoup  Oil Company\nStructural and reservoir modeling of Ras Budran Oil Field\, East central Gulf Of Suez Egypt (2011) Suez Oil Company.\nIntegrated geological modeling of Ras Fanar Oil Field\, West Central Gulf Of Suez Egypt (2011) Suez Oil Company\nGeologic Model of Kareem reservoir in North Zeit Bay Concession (NZBC)\, Gemsa Basin\, Southern Gulf Of Suez\, Egypt.\nTectono-Stratigraphic evolution of El Hamra and Shabrawet structures\, East and West of Suez Canal\, Egypt (2011)\n4D Geological mapping and structural model of Hammam Faraun Block (2012)\nEvaluation der Basement Reservoire der ostlichen Riftschulter des Golf von Suez\, SW Sinai Geisum\, ETHZ\, Suco\nFracture modeling of surface and subsurface Eocene Carbonates of  in NOW oil field\, Petrosalam Co. and AOC\n\n\nGRANTS      \n\nEl Ashri Cairo University Grant best M Sc & PhD in the academic year 1995 & 2002\nSwiss Grant for the best article in the Swiss tectonic meeting 2001\nETH Zurich fund for surface analogue for basement reservoir characterization project
URL:https://www.erexegypt.com/wp/short-course/advanced-structural-modeling-facies-and-petrophysics/
LOCATION:Hurghada\, Hurghada\, Egypt
CATEGORIES:Course & Workshop
END:VEVENT
END:VCALENDAR