BEGIN:VCALENDAR
VERSION:2.0
PRODID:-//erexegypt - ECPv5.14.1//NONSGML v1.0//EN
CALSCALE:GREGORIAN
METHOD:PUBLISH
X-WR-CALNAME:erexegypt
X-ORIGINAL-URL:https://www.erexegypt.com/wp
X-WR-CALDESC:Events for erexegypt
REFRESH-INTERVAL;VALUE=DURATION:PT1H
X-Robots-Tag:noindex
X-PUBLISHED-TTL:PT1H
BEGIN:VTIMEZONE
TZID:UTC
BEGIN:STANDARD
TZOFFSETFROM:+0000
TZOFFSETTO:+0000
TZNAME:UTC
DTSTART:20240101T000000
END:STANDARD
END:VTIMEZONE
BEGIN:VEVENT
DTSTART;VALUE=DATE:20240602
DTEND;VALUE=DATE:20240607
DTSTAMP:20260424T223035
CREATED:20230808T084520Z
LAST-MODIFIED:20230808T084520Z
UID:2616-1717286400-1717718399@www.erexegypt.com
SUMMARY:Economic Feasibility analysis of Upstream Petroleum Projects
DESCRIPTION:Course & Workshop\nJune 2 – 6\, 2024 \nInstructor: Dr. Ismael Mahgoub \n  \nWho Should Attend\n\n•	Senior level of Petroleum Engineers\, Geoscientist\, and Finance Managers.\nNewly appointed managers.\n\nMaster Workshop Objectives\n\nPreparation of economic feasibility studies of petroleum reservoir development plans for management approval is a challenging responsibility. This is achieved in this workshop by learning how to :-\n \n\nEstablish effective multi-disciplinary teams of senior staff to developing petroleum reserves\, particularly in the nature of the volatile petroleum market.\nSecure the decision analysis through carrying out sensitivity study since the upstream petroleum system is subject to considerable risk & uncertainty environment.\n\nThis multi-disciplinary team approach would promote the technical & finance efforts for securing managerial approval.\n \nThe workshop is designed primarily for those professionals whose responsibility during the carrier will include any of these essential aspects of the above sited components.\n\n \nWorkshop Objectives\n1-	To develop an understanding of the HC field life cycle.\n2-	To promote an international reservoir engineering techniques and best practice relating to the development of HC field\, reserve estimate\, production forecast\, etc……..\n3-	To gain insight & knowledge of economic evaluation process to establish cash flow model of a development plan to evaluate its profitability.\n4-	Provide knowledge of how to carry out sensitivity analysis of the generated cash flow model.\n5-	Integrate the generated cash flow model into the business FiscalRegim of the Corporate. \nMethodology\nThe workshop is focusing on in–classes excel sheet application to promote the participants practical skills. Accordingly the time allocation is divided into : \n\n50 % for lectures\n50 % for practical sessions\n\nAccordingly:-\n1-	The participants will be distributed into multi-disciplinary\, roundtable teams.\n2-	Every participant is to bring with him his Lap-Top to effectively carry out the practical sessions.  \nLocation\nFirst day will be held at the Holiday Inn Maadi Hotel\, in Cairo. The participants will fly the next day to Hurghada. The course will be continued in Hurghada. \n  \nCourse Fees\nInclusive of refreshment and lunch at the Holiday Inn Maadi Hotel. Air Ticket Cairo/Hurghada return and accommodation in Hurghada. \n  \nInstructor Profile\n\nHead of Pet. Eng. Dept\, FUE.\nEx associate Professor\, Cairo University.\nMore than 25 years of practical experience in upstream petroleum industry.\nAbout 10 years of leading multi-national JV Operations along which multi-phase upstream projects in Oil & Gas business has been carried out and successfully implemented.\nMore than 10 years in teaching technical\, and business courses\, in the Gulf countries\, North Africa\, and Asia.\nSPE member.
URL:https://www.erexegypt.com/wp/short-course/economic-feasibility-analysis-of-upstream-petroleum-projects/
LOCATION:Hurghada\, Hurghada\, Egypt
CATEGORIES:Course & Workshop
END:VEVENT
END:VCALENDAR